Package: StabMap Version: 1.3.0 Command: /Library/Frameworks/R.framework/Resources/bin/R CMD INSTALL StabMap StartedAt: 2025-10-24 15:51:16 -0400 (Fri, 24 Oct 2025) EndedAt: 2025-10-24 15:51:46 -0400 (Fri, 24 Oct 2025) EllapsedTime: 29.4 seconds RetCode: 0 Status: OK