Package: StabMap Version: 1.3.0 Command: /Library/Frameworks/R.framework/Resources/bin/R CMD build --keep-empty-dirs --no-resave-data StabMap StartedAt: 2025-10-24 18:58:20 -0400 (Fri, 24 Oct 2025) EndedAt: 2025-10-24 19:04:33 -0400 (Fri, 24 Oct 2025) EllapsedTime: 372.5 seconds RetCode: 0 Status: OK PackageFile: StabMap_1.3.0.tar.gz PackageFileSize: 2.12 MiB