Package: StabMap Version: 1.3.0 Command: rm -rf StabMap.buildbin-libdir && mkdir StabMap.buildbin-libdir && /Users/biocbuild/BBS/utils/build-universal.sh StabMap_1.3.0.tar.gz /Library/Frameworks/R.framework/Resources/bin/R StabMap.buildbin-libdir StartedAt: 2025-10-25 02:07:04 -0400 (Sat, 25 Oct 2025) EndedAt: 2025-10-25 02:07:35 -0400 (Sat, 25 Oct 2025) EllapsedTime: 31.2 seconds RetCode: 0 Status: OK PackageFile: StabMap_1.3.0.tgz PackageFileSize: 1.773 MiB