Package: SpotSweeper Version: 1.6.0 Command: /Library/Frameworks/R.framework/Resources/bin/R CMD build --keep-empty-dirs --no-resave-data SpotSweeper StartedAt: 2025-11-03 18:57:38 -0500 (Mon, 03 Nov 2025) EndedAt: 2025-11-03 19:00:19 -0500 (Mon, 03 Nov 2025) EllapsedTime: 160.7 seconds RetCode: 0 Status: OK PackageFile: SpotSweeper_1.6.0.tar.gz PackageFileSize: 4.006 MiB