Package: SpotSweeper Version: 1.5.1 Command: /Library/Frameworks/R.framework/Resources/bin/R CMD INSTALL SpotSweeper StartedAt: 2025-10-24 15:17:44 -0400 (Fri, 24 Oct 2025) EndedAt: 2025-10-24 15:17:59 -0400 (Fri, 24 Oct 2025) EllapsedTime: 15.3 seconds RetCode: 0 Status: OK