Package: SpotSweeper Version: 1.5.1 Command: rm -rf SpotSweeper.buildbin-libdir && mkdir SpotSweeper.buildbin-libdir && /Users/biocbuild/BBS/utils/build-universal.sh SpotSweeper_1.5.1.tar.gz /Library/Frameworks/R.framework/Resources/bin/R SpotSweeper.buildbin-libdir StartedAt: 2025-10-24 23:21:25 -0400 (Fri, 24 Oct 2025) EndedAt: 2025-10-24 23:21:42 -0400 (Fri, 24 Oct 2025) EllapsedTime: 16.4 seconds RetCode: 0 Status: OK PackageFile: SpotSweeper_1.5.1.tgz PackageFileSize: 4.037 MiB