Package: SpotClean Version: 1.11.0 Command: /home/biocbuild/bbs-3.22-bioc/R/bin/R CMD build --keep-empty-dirs --no-resave-data --md5 SpotClean StartedAt: 2025-10-24 20:26:53 -0400 (Fri, 24 Oct 2025) EndedAt: 2025-10-24 20:30:49 -0400 (Fri, 24 Oct 2025) EllapsedTime: 236.2 seconds RetCode: 0 Status: OK PackageFile: SpotClean_1.11.0.tar.gz PackageFileSize: 3.967 MiB