Package: SplineDV Version: 1.1.1 Command: /home/biocbuild/bbs-3.22-bioc/R/bin/R CMD INSTALL SplineDV StartedAt: 2025-10-24 15:43:24 -0400 (Fri, 24 Oct 2025) EndedAt: 2025-10-24 15:43:51 -0400 (Fri, 24 Oct 2025) EllapsedTime: 26.8 seconds RetCode: 0 Status: OK