Package: SplineDV Version: 1.1.1 Command: /home/biocbuild/bbs-3.22-bioc/R/bin/R CMD build --keep-empty-dirs --no-resave-data --md5 SplineDV StartedAt: 2025-10-24 20:25:58 -0400 (Fri, 24 Oct 2025) EndedAt: 2025-10-24 20:28:57 -0400 (Fri, 24 Oct 2025) EllapsedTime: 179.1 seconds RetCode: 0 Status: OK PackageFile: SplineDV_1.1.1.tar.gz PackageFileSize: 2.378 MiB