Package: SplicingGraphs Version: 1.49.1 Command: /home/biocbuild/R/R/bin/R CMD INSTALL SplicingGraphs StartedAt: 2025-10-23 21:02:11 -0000 (Thu, 23 Oct 2025) EndedAt: 2025-10-23 21:03:03 -0000 (Thu, 23 Oct 2025) EllapsedTime: 52.6 seconds RetCode: 0 Status: OK