Package: SplicingGraphs Version: 1.49.1 Command: /home/biocbuild/bbs-3.22-bioc/R/bin/R CMD check --install=check:SplicingGraphs.install-out.txt --library=/home/biocbuild/bbs-3.22-bioc/R/site-library --timings SplicingGraphs_1.49.1.tar.gz StartedAt: 2025-10-08 04:50:37 -0400 (Wed, 08 Oct 2025) EndedAt: 2025-10-08 04:59:28 -0400 (Wed, 08 Oct 2025) EllapsedTime: 531.4 seconds RetCode: 0 Status: WARNINGS CheckDir: SplicingGraphs.Rcheck Warnings: 2