Package: SplicingGraphs Version: 1.50.1 Command: /Library/Frameworks/R.framework/Resources/bin/R CMD check --install=check:SplicingGraphs.install-out.txt --library=/Library/Frameworks/R.framework/Resources/library --no-vignettes --timings SplicingGraphs_1.50.1.tar.gz StartedAt: 2025-11-04 00:33:00 -0500 (Tue, 04 Nov 2025) EndedAt: 2025-11-04 00:40:36 -0500 (Tue, 04 Nov 2025) EllapsedTime: 455.8 seconds RetCode: 0 Status: WARNINGS CheckDir: SplicingGraphs.Rcheck Warnings: 2