Package: SplicingGraphs Version: 1.49.1 Command: /Library/Frameworks/R.framework/Resources/bin/R CMD build --keep-empty-dirs --no-resave-data SplicingGraphs StartedAt: 2025-10-27 18:49:21 -0400 (Mon, 27 Oct 2025) EndedAt: 2025-10-27 18:50:56 -0400 (Mon, 27 Oct 2025) EllapsedTime: 94.6 seconds RetCode: 1 Status: ERROR PackageFile: None PackageFileSize: NA