Package: SplicingGraphs Version: 1.49.1 Command: rm -rf SplicingGraphs.buildbin-libdir && mkdir SplicingGraphs.buildbin-libdir && /Users/biocbuild/BBS/utils/build-universal.sh SplicingGraphs_1.49.1.tar.gz /Library/Frameworks/R.framework/Resources/bin/R SplicingGraphs.buildbin-libdir StartedAt: 2025-10-07 23:03:26 -0400 (Tue, 07 Oct 2025) EndedAt: 2025-10-07 23:03:45 -0400 (Tue, 07 Oct 2025) EllapsedTime: 18.4 seconds RetCode: 0 Status: OK PackageFile: SplicingGraphs_1.49.1.tgz PackageFileSize: 4.823 MiB