Package: SplicingFactory Version: 1.17.0 Command: /home/biocbuild/R/R/bin/R CMD build --keep-empty-dirs --no-resave-data SplicingFactory StartedAt: 2025-10-21 03:25:28 -0000 (Tue, 21 Oct 2025) EndedAt: 2025-10-21 03:26:14 -0000 (Tue, 21 Oct 2025) EllapsedTime: 46.0 seconds RetCode: 0 Status: OK PackageFile: SplicingFactory_1.17.0.tar.gz PackageFileSize: 527.5 KiB