Package: SplicingFactory Version: 1.17.0 Command: /Library/Frameworks/R.framework/Resources/bin/R CMD INSTALL SplicingFactory StartedAt: 2025-10-27 15:21:14 -0400 (Mon, 27 Oct 2025) EndedAt: 2025-10-27 15:21:41 -0400 (Mon, 27 Oct 2025) EllapsedTime: 26.9 seconds RetCode: 0 Status: OK