Package: SplicingFactory Version: 1.17.0 Command: /Library/Frameworks/R.framework/Resources/bin/R CMD build --keep-empty-dirs --no-resave-data SplicingFactory StartedAt: 2025-10-24 18:55:52 -0400 (Fri, 24 Oct 2025) EndedAt: 2025-10-24 18:56:32 -0400 (Fri, 24 Oct 2025) EllapsedTime: 39.8 seconds RetCode: 0 Status: OK PackageFile: SplicingFactory_1.17.0.tar.gz PackageFileSize: 790.9 KiB