Package: SplicingFactory Version: 1.17.0 Command: rm -rf SplicingFactory.buildbin-libdir && mkdir SplicingFactory.buildbin-libdir && /Users/biocbuild/BBS/utils/build-universal.sh SplicingFactory_1.17.0.tar.gz /Library/Frameworks/R.framework/Resources/bin/R SplicingFactory.buildbin-libdir StartedAt: 2025-10-25 02:06:42 -0400 (Sat, 25 Oct 2025) EndedAt: 2025-10-25 02:07:11 -0400 (Sat, 25 Oct 2025) EllapsedTime: 29.1 seconds RetCode: 0 Status: OK PackageFile: SplicingFactory_1.17.0.tgz PackageFileSize: 827.9 KiB