Package: SplicingFactory Version: 1.17.0 Command: rm -rf SplicingFactory.buildbin-libdir && mkdir SplicingFactory.buildbin-libdir && /Users/biocbuild/BBS/utils/build-universal.sh SplicingFactory_1.17.0.tar.gz /Library/Frameworks/R.framework/Resources/bin/R SplicingFactory.buildbin-libdir StartedAt: 2025-10-26 22:49:21 -0400 (Sun, 26 Oct 2025) EndedAt: 2025-10-26 22:49:29 -0400 (Sun, 26 Oct 2025) EllapsedTime: 8.2 seconds RetCode: 0 Status: OK PackageFile: SplicingFactory_1.17.0.tgz PackageFileSize: 828.6 KiB