Package: SpliceWiz Version: 1.11.0 Command: /home/biocbuild/bbs-3.22-bioc/R/bin/R CMD INSTALL SpliceWiz StartedAt: 2025-10-24 15:46:25 -0400 (Fri, 24 Oct 2025) EndedAt: 2025-10-24 15:48:12 -0400 (Fri, 24 Oct 2025) EllapsedTime: 106.6 seconds RetCode: 0 Status: OK