Package: SpliceWiz Version: 1.11.0 Command: /Library/Frameworks/R.framework/Resources/bin/R CMD INSTALL SpliceWiz StartedAt: 2025-10-24 15:19:46 -0400 (Fri, 24 Oct 2025) EndedAt: 2025-10-24 15:20:24 -0400 (Fri, 24 Oct 2025) EllapsedTime: 38.2 seconds RetCode: 0 Status: OK