Package: SpliceWiz Version: 1.11.0 Command: /Library/Frameworks/R.framework/Resources/bin/R CMD build --keep-empty-dirs --no-resave-data SpliceWiz StartedAt: 2025-10-24 17:51:45 -0400 (Fri, 24 Oct 2025) EndedAt: 2025-10-24 17:54:21 -0400 (Fri, 24 Oct 2025) EllapsedTime: 155.7 seconds RetCode: 0 Status: OK PackageFile: SpliceWiz_1.11.0.tar.gz PackageFileSize: 4.665 MiB