Package: SpliceWiz Version: 1.11.0 Command: rm -rf SpliceWiz.buildbin-libdir && mkdir SpliceWiz.buildbin-libdir && /Users/biocbuild/BBS/utils/build-universal.sh SpliceWiz_1.11.0.tar.gz /Library/Frameworks/R.framework/Resources/bin/R SpliceWiz.buildbin-libdir StartedAt: 2025-10-24 23:21:16 -0400 (Fri, 24 Oct 2025) EndedAt: 2025-10-24 23:21:59 -0400 (Fri, 24 Oct 2025) EllapsedTime: 43.0 seconds RetCode: 0 Status: OK PackageFile: SpliceWiz_1.11.0.tgz PackageFileSize: 5.909 MiB