Package: SpliceWiz Version: 1.12.0 Maintainer: Alex Chit Hei Wong MaintainerEmail: alexchwong.github at gmail.com git_url: https://git.bioconductor.org/packages/SpliceWiz git_branch: RELEASE_3_22 git_last_commit: 1767347 git_last_commit_date: 2025-10-29 11:17:35 -0400 (Wed, 29 Oct 2025)