Package: SpectriPy Version: 0.99.13 Command: /home/biocbuild/bbs-3.22-bioc/R/bin/R CMD INSTALL SpectriPy StartedAt: 2025-10-24 15:25:22 -0400 (Fri, 24 Oct 2025) EndedAt: 2025-10-24 15:25:52 -0400 (Fri, 24 Oct 2025) EllapsedTime: 30.1 seconds RetCode: 0 Status: OK