Package: SpectriPy Version: 0.99.13 Command: /home/biocbuild/bbs-3.22-bioc/R/bin/R CMD build --keep-empty-dirs --no-resave-data --md5 SpectriPy StartedAt: 2025-10-24 20:24:33 -0400 (Fri, 24 Oct 2025) EndedAt: 2025-10-24 20:33:19 -0400 (Fri, 24 Oct 2025) EllapsedTime: 526.4 seconds RetCode: 0 Status: OK PackageFile: SpectriPy_0.99.13.tar.gz PackageFileSize: 1.01 MiB