Package: SpectriPy Version: 0.99.13 Command: /Library/Frameworks/R.framework/Resources/bin/R CMD INSTALL SpectriPy StartedAt: 2025-10-24 15:24:45 -0400 (Fri, 24 Oct 2025) EndedAt: 2025-10-24 15:25:20 -0400 (Fri, 24 Oct 2025) EllapsedTime: 35.4 seconds RetCode: 0 Status: OK