Package: SpectriPy Version: 0.99.13 Maintainer: Johannes Rainer MaintainerEmail: Johannes.Rainer at eurac.edu git_url: https://git.bioconductor.org/packages/SpectriPy git_branch: devel git_last_commit: c258967 git_last_commit_date: 2025-10-13 01:59:32 -0400 (Mon, 13 Oct 2025)