Package: SpectralTAD Version: 1.25.0 Command: /home/biocbuild/bbs-3.22-bioc/R/bin/R CMD INSTALL SpectralTAD StartedAt: 2025-10-24 15:42:23 -0400 (Fri, 24 Oct 2025) EndedAt: 2025-10-24 15:42:35 -0400 (Fri, 24 Oct 2025) EllapsedTime: 11.6 seconds RetCode: 0 Status: OK