Package: SpectralTAD Version: 1.25.0 Command: /home/biocbuild/bbs-3.22-bioc/R/bin/R CMD build --keep-empty-dirs --no-resave-data --md5 SpectralTAD StartedAt: 2025-10-24 20:24:27 -0400 (Fri, 24 Oct 2025) EndedAt: 2025-10-24 20:26:05 -0400 (Fri, 24 Oct 2025) EllapsedTime: 98.1 seconds RetCode: 0 Status: OK PackageFile: SpectralTAD_1.25.0.tar.gz PackageFileSize: 1.493 MiB