Package: SpectralTAD Version: 1.25.0 Command: /Library/Frameworks/R.framework/Resources/bin/R CMD build --keep-empty-dirs --no-resave-data SpectralTAD StartedAt: 2025-10-24 17:51:15 -0400 (Fri, 24 Oct 2025) EndedAt: 2025-10-24 17:51:50 -0400 (Fri, 24 Oct 2025) EllapsedTime: 35.4 seconds RetCode: 0 Status: OK PackageFile: SpectralTAD_1.25.0.tar.gz PackageFileSize: 1.492 MiB