Package: SpectralTAD Version: 1.26.0 Maintainer: Mikhail Dozmorov MaintainerEmail: mikhail.dozmorov at gmail.com git_url: https://git.bioconductor.org/packages/SpectralTAD git_branch: RELEASE_3_22 git_last_commit: 1a597b5 git_last_commit_date: 2025-10-29 10:50:13 -0400 (Wed, 29 Oct 2025)