Package: SpectraQL Version: 1.4.0 Command: /home/biocbuild/bbs-3.22-bioc/R/bin/R CMD check --install=check:SpectraQL.install-out.txt --library=/home/biocbuild/bbs-3.22-bioc/R/site-library --timings SpectraQL_1.4.0.tar.gz StartedAt: 2025-11-07 04:25:25 -0500 (Fri, 07 Nov 2025) EndedAt: 2025-11-07 04:26:51 -0500 (Fri, 07 Nov 2025) EllapsedTime: 86.1 seconds RetCode: 0 Status: OK CheckDir: SpectraQL.Rcheck Warnings: 0