Package: SpectraQL Version: 1.3.1 Command: /Library/Frameworks/R.framework/Resources/bin/R CMD INSTALL SpectraQL StartedAt: 2025-10-24 15:24:39 -0400 (Fri, 24 Oct 2025) EndedAt: 2025-10-24 15:24:57 -0400 (Fri, 24 Oct 2025) EllapsedTime: 18.4 seconds RetCode: 0 Status: OK