Package: SpectraQL Version: 1.3.1 Command: /Library/Frameworks/R.framework/Resources/bin/R CMD build --keep-empty-dirs --no-resave-data SpectraQL StartedAt: 2025-10-24 18:55:01 -0400 (Fri, 24 Oct 2025) EndedAt: 2025-10-24 18:55:27 -0400 (Fri, 24 Oct 2025) EllapsedTime: 26.3 seconds RetCode: 0 Status: OK PackageFile: SpectraQL_1.3.1.tar.gz PackageFileSize: 407.7 KiB