Package: SpectraQL Version: 1.3.1 Command: rm -rf SpectraQL.buildbin-libdir && mkdir SpectraQL.buildbin-libdir && /Users/biocbuild/BBS/utils/build-universal.sh SpectraQL_1.3.1.tar.gz /Library/Frameworks/R.framework/Resources/bin/R SpectraQL.buildbin-libdir StartedAt: 2025-10-24 23:21:10 -0400 (Fri, 24 Oct 2025) EndedAt: 2025-10-24 23:21:14 -0400 (Fri, 24 Oct 2025) EllapsedTime: 4.1 seconds RetCode: 0 Status: OK PackageFile: SpectraQL_1.3.1.tgz PackageFileSize: 428.8 KiB