Package: Spectra Version: 1.19.11 Command: /home/biocbuild/bbs-3.22-bioc/R/bin/R CMD INSTALL Spectra StartedAt: 2025-10-24 15:24:49 -0400 (Fri, 24 Oct 2025) EndedAt: 2025-10-24 15:25:04 -0400 (Fri, 24 Oct 2025) EllapsedTime: 14.6 seconds RetCode: 0 Status: OK