Package: Spectra Version: 1.20.0 Command: /Library/Frameworks/R.framework/Resources/bin/R CMD build --keep-empty-dirs --no-resave-data Spectra StartedAt: 2025-11-10 17:51:49 -0500 (Mon, 10 Nov 2025) EndedAt: 2025-11-10 17:52:14 -0500 (Mon, 10 Nov 2025) EllapsedTime: 25.3 seconds RetCode: 0 Status: OK PackageFile: Spectra_1.20.0.tar.gz PackageFileSize: 1.523 MiB