Package: SpatialOmicsOverlay Version: 1.9.2 Command: /home/biocbuild/bbs-3.22-bioc/R/bin/R CMD INSTALL SpatialOmicsOverlay StartedAt: 2025-10-24 15:27:02 -0400 (Fri, 24 Oct 2025) EndedAt: 2025-10-24 15:27:33 -0400 (Fri, 24 Oct 2025) EllapsedTime: 30.4 seconds RetCode: 0 Status: OK