Package: SpatialOmicsOverlay Version: 1.10.0 Command: /home/biocbuild/bbs-3.22-bioc/R/bin/R CMD check --install=check:SpatialOmicsOverlay.install-out.txt --library=/home/biocbuild/bbs-3.22-bioc/R/site-library --timings SpatialOmicsOverlay_1.10.0.tar.gz StartedAt: 2025-11-15 04:41:49 -0500 (Sat, 15 Nov 2025) EndedAt: 2025-11-15 04:56:52 -0500 (Sat, 15 Nov 2025) EllapsedTime: 903.8 seconds RetCode: 0 Status: OK CheckDir: SpatialOmicsOverlay.Rcheck Warnings: 0