Package: SpatialOmicsOverlay Version: 1.9.2 Command: /home/biocbuild/bbs-3.22-bioc/R/bin/R CMD build --keep-empty-dirs --no-resave-data --md5 SpatialOmicsOverlay StartedAt: 2025-10-24 20:23:16 -0400 (Fri, 24 Oct 2025) EndedAt: 2025-10-24 20:30:32 -0400 (Fri, 24 Oct 2025) EllapsedTime: 436.4 seconds RetCode: 0 Status: OK PackageFile: SpatialOmicsOverlay_1.9.2.tar.gz PackageFileSize: 4.354 MiB