Package: SpatialOmicsOverlay Version: 1.10.0 Command: /Library/Frameworks/R.framework/Resources/bin/R CMD INSTALL SpatialOmicsOverlay StartedAt: 2025-10-31 15:27:02 -0400 (Fri, 31 Oct 2025) EndedAt: 2025-10-31 15:27:45 -0400 (Fri, 31 Oct 2025) EllapsedTime: 43.2 seconds RetCode: 0 Status: OK