Package: SpatialOmicsOverlay Version: 1.10.0 Command: /Library/Frameworks/R.framework/Resources/bin/R CMD build --keep-empty-dirs --no-resave-data SpatialOmicsOverlay StartedAt: 2025-10-30 18:45:55 -0400 (Thu, 30 Oct 2025) EndedAt: 2025-10-30 18:53:25 -0400 (Thu, 30 Oct 2025) EllapsedTime: 450.1 seconds RetCode: 0 Status: OK PackageFile: SpatialOmicsOverlay_1.10.0.tar.gz PackageFileSize: 4.499 MiB