Package: SpatialOmicsOverlay Version: 1.10.0 Command: rm -rf SpatialOmicsOverlay.buildbin-libdir && mkdir SpatialOmicsOverlay.buildbin-libdir && /Users/biocbuild/BBS/utils/build-universal.sh SpatialOmicsOverlay_1.10.0.tar.gz /Library/Frameworks/R.framework/Resources/bin/R SpatialOmicsOverlay.buildbin-libdir StartedAt: 2025-11-03 02:06:43 -0500 (Mon, 03 Nov 2025) EndedAt: 2025-11-03 02:07:31 -0500 (Mon, 03 Nov 2025) EllapsedTime: 48.6 seconds RetCode: 0 Status: OK PackageFile: SpatialOmicsOverlay_1.10.0.tgz PackageFileSize: 4.683 MiB