Package: SpatialOmicsOverlay Version: 1.9.2 Command: /Library/Frameworks/R.framework/Resources/bin/R CMD INSTALL SpatialOmicsOverlay StartedAt: 2025-10-24 15:11:02 -0400 (Fri, 24 Oct 2025) EndedAt: 2025-10-24 15:11:14 -0400 (Fri, 24 Oct 2025) EllapsedTime: 12.2 seconds RetCode: 0 Status: OK