Package: SpatialOmicsOverlay Version: 1.9.2 Command: /Library/Frameworks/R.framework/Resources/bin/R CMD build --keep-empty-dirs --no-resave-data SpatialOmicsOverlay StartedAt: 2025-10-24 17:50:45 -0400 (Fri, 24 Oct 2025) EndedAt: 2025-10-24 17:53:26 -0400 (Fri, 24 Oct 2025) EllapsedTime: 161.8 seconds RetCode: 0 Status: OK PackageFile: SpatialOmicsOverlay_1.9.2.tar.gz PackageFileSize: 4.5 MiB