Package: SpatialOmicsOverlay Version: 1.9.2 Command: rm -rf SpatialOmicsOverlay.buildbin-libdir && mkdir SpatialOmicsOverlay.buildbin-libdir && /Users/biocbuild/BBS/utils/build-universal.sh SpatialOmicsOverlay_1.9.2.tar.gz /Library/Frameworks/R.framework/Resources/bin/R SpatialOmicsOverlay.buildbin-libdir StartedAt: 2025-10-24 23:21:04 -0400 (Fri, 24 Oct 2025) EndedAt: 2025-10-24 23:21:18 -0400 (Fri, 24 Oct 2025) EllapsedTime: 14.3 seconds RetCode: 0 Status: OK PackageFile: SpatialOmicsOverlay_1.9.2.tgz PackageFileSize: 4.684 MiB