Package: SpatialFeatureExperiment Version: 1.11.1 Command: /home/biocbuild/R/R/bin/R CMD INSTALL SpatialFeatureExperiment StartedAt: 2025-10-23 20:54:29 -0000 (Thu, 23 Oct 2025) EndedAt: 2025-10-23 20:55:46 -0000 (Thu, 23 Oct 2025) EllapsedTime: 77.1 seconds RetCode: 0 Status: OK