Package: SpatialFeatureExperiment Version: 1.11.1 Command: /home/biocbuild/R/R/bin/R CMD build --keep-empty-dirs --no-resave-data SpatialFeatureExperiment StartedAt: 2025-10-21 03:22:08 -0000 (Tue, 21 Oct 2025) EndedAt: 2025-10-21 03:25:11 -0000 (Tue, 21 Oct 2025) EllapsedTime: 183.1 seconds RetCode: 1 Status: ERROR PackageFile: None PackageFileSize: NA