Package: SpatialFeatureExperiment Version: 1.11.1 Command: /home/biocbuild/bbs-3.22-bioc/R/bin/R CMD build --keep-empty-dirs --no-resave-data --md5 SpatialFeatureExperiment StartedAt: 2025-10-24 20:22:48 -0400 (Fri, 24 Oct 2025) EndedAt: 2025-10-24 20:24:37 -0400 (Fri, 24 Oct 2025) EllapsedTime: 109.1 seconds RetCode: 1 Status: ERROR PackageFile: None PackageFileSize: NA